{"text_format":"3","workbook":"xlsx","n_sheets":2,"sheets":["消費者物価指数の概要 ","中分類指数"],"not_rendered":{"defined_names":3},"read":"whole","date_system":"1900"}

{"sheet":"消費者物価指数の概要 ","index":0,"n_rows":33,"n_cols":13,"rows_kept":33,"merged":[[1,0,1,13],[3,0,3,13],[8,0,8,13],[9,0,9,13],[10,0,10,13],[11,0,11,13],[12,0,12,13],[13,0,13,13],[14,0,14,13],[15,0,15,13],[17,0,17,13],[18,0,18,13],[19,0,19,13],[20,0,20,13],[21,0,21,13],[22,0,22,13],[23,0,23,13],[26,0,26,13],[27,0,27,13]]}
[]
["川崎市の消費者物価指数の概要"]
[]
["　（総務省統計局公表結果に基づく　令和２（２０２０）年＝１００基準）"]
[]
["２０２５年10月分"]
[]
[]
["**********************************************************************************************"]
["　   　　  1　総合指数は１１１．２"]
["　　　　　　　　   前年同月比は2.7％の上昇    前月比は0.8％の上昇"]
["　   　　  2　生鮮食品を除く総合指数は１１０．６"]
["　　　　　　　　   前年同月比は2.7％の上昇     前月比は0.7％の上昇"]
["　　   　  3　生鮮食品及びエネルギーを除く総合指数は１１０．２"]
["　　　　　　　　   前年同月比は2.8％の上昇     前月比は0.7％の上昇"]
["*********************************************************************************************"]
[]
["     　利用上の注意"]
["　　    　　1　この概要は、総務省統計局による消費者物価指数の公表結果に基づき、作成しています。"]
["　　　　  　2　指数の基準時及びウエイト(家計調査)の参照年次は2020年で、指数の算定は、基準時加重相対計算法"]
[" 　　 　 　　   （ラスパイレス型）です。なお、ウエイトは、主に家計調査によって得られた2019年及び2020年の平均１か"]
[" 　　 　 　　   月の１世帯当たり品目別消費支出金額を用いて作成しています。"]
["　　 　　 　3　速報値のため、前月以前速報値や年報（確報値）と相違することがあります。"]
["　　　　　　4　数値は原数値を掲載しています。"]
[]
[]
["       10大費目指数の状況"]
["　　　　　　　　　　　　　　　　　　         　　消費者物価指数　　10大費目指数　　  （令和２（２０２０）年＝１００）"]
[]
[null,"費　　目","総合","食料","住居","光熱・\n　水道","家具・\n家事用品","被服及び履物","保健医療","交通・\n   通信","教育","教養娯楽","諸雑費"]
[null,"指　数",{"$f":"中分類指数!C6","v":111.2},{"$f":"中分類指数!C7","v":125.7},{"$f":"中分類指数!C20","v":102.1},{"$f":"中分類指数!C23","v":112.5},{"$f":"中分類指数!C28","v":119.6},{"$f":"中分類指数!C35","v":109.4},{"$f":"中分類指数!C41","v":104.8},{"$f":"中分類指数!C45","v":99.1},{"$f":"中分類指数!I6","v":99.4},{"$f":"中分類指数!I10","v":121.9},{"$f":"中分類指数!I15","v":106.6}]
[null,"前月比\n（％）",{"$f":"中分類指数!D6","v":0.8},{"$f":"中分類指数!D7","v":1.3},{"$f":"中分類指数!D20","v":0.2},{"$f":"中分類指数!D23","v":0.5},{"$f":"中分類指数!D28","v":{"v":3,"d":"3.0"}},{"$f":"中分類指数!D35","v":{"v":0,"d":"0.0"}},{"$f":"中分類指数!D41","v":-0.1},{"$f":"中分類指数!D45","v":0.7},{"$f":"中分類指数!J6","v":{"v":0,"d":"0.0"}},{"$f":"中分類指数!J10","v":1.8},{"$f":"中分類指数!J15","v":0.4}]
[null,"前年同月比\n（％）",{"$f":"中分類指数!E6","v":2.7},{"$f":"中分類指数!E7","v":6.1},{"$f":"中分類指数!E20","v":1.4},{"$f":"中分類指数!E23","v":{"v":2,"d":"2.0"}},{"$f":"中分類指数!E28","v":3.2},{"$f":"中分類指数!E35","v":0.3},{"$f":"中分類指数!E41","v":0.5},{"$f":"中分類指数!E45","v":2.9},{"$f":"中分類指数!K6","v":-3.4},{"$f":"中分類指数!K10","v":2.1},{"$f":"中分類指数!K15","v":{"v":1,"d":"1.0"}}]

{"sheet":"中分類指数","index":1,"n_rows":48,"n_cols":11,"rows_kept":48,"merged":[[0,0,0,8],[0,9,0,10],[2,0,2,1],[4,0,4,1],[4,6,4,7]]}
["　　　　　　　　　　　　　　　　　　　  　中 　分　 類　 指　 数",{"$nulls":8},{"$f":"LEFT('消費者物価指数の概要 '!A6,LEN('消費者物価指数の概要 '!A6)-1)","v":"２０２５年10月"}]
[]
["川崎市"]
[]
["分　　　類　　　名",null,"指　数","前月比\n％","前年\n同月比\n％",null,"分　　　類　　　名",null,"指　数","前月比\n％","前年\n同月比\n％"]
["総合",null,111.2,0.8,2.7,null,"教育",null,99.4,{"v":0,"d":"0.0"},-3.4]
["食料",null,125.7,1.3,6.1,null,null,"授業料等",{"v":95,"d":"95.0"},{"v":0,"d":"0.0"},-5.3]
[null,"穀類",137.1,3.5,18.1,null,null,"教科書・学習参考教材",109.9,{"v":0,"d":"0.0"},1.4]
[null,"魚介類",125.6,2.2,4.5,null,null,"補習教育",111.2,{"v":0,"d":"0.0"},1.3]
[null,"肉類",119.3,-0.6,4.9,null,"教養娯楽",null,121.9,1.8,2.1]
[null,"乳卵類",127.8,1.3,5.7,null,null,"教養娯楽用耐久財",107.6,{"v":0,"d":"0.0"},-2.8]
[null,"野菜・海藻",128.5,1.6,3.8,null,null,"教養娯楽用品",110.9,1.7,1.4]
[null,"果物",118.3,4.3,0.8,null,null,"書籍・他の印刷物",117.6,0.1,4.5]
[null,"油脂･調味料",121.9,3.2,3.9,null,null,"教養娯楽サービス",128.2,2.2,2.5]
[null,"菓子類",133.8,-3.1,7.3,null,"諸雑費",null,106.6,0.4,{"v":1,"d":"1.0"}]
[null,"調理食品",122.7,0.7,6.5,null,null,"理美容サービス",112.9,{"v":0,"d":"0.0"},{"v":5,"d":"5.0"}]
[null,"飲料",127.1,0.8,4.6,null,null,"理美容用品",107.8,1.3,1.4]
[null,"酒類",{"v":115,"d":"115.0"},0.5,{"v":4,"d":"4.0"},null,null,"身の回り用品",107.1,-0.2,-2.9]
[null,"外食",124.6,2.8,5.5,null,null,"たばこ",115.1,{"v":0,"d":"0.0"},0.6]
["住居",null,102.1,0.2,1.4,null,null,"他の諸雑費",102.2,0.3,0.3]
[null,"家賃",100.9,{"v":0,"d":"0.0"},0.8]
[null,"設備修繕・維持",119.1,{"v":3,"d":"3.0"},8.6]
["光熱・水道",null,112.5,0.5,{"v":2,"d":"2.0"}]
[null,"電気代",115.9,0.8,3.2]
[null,"ガス代",115.7,0.4,0.9]
[null,"他の光熱",145.1,{"v":0,"d":"0.0"},9.7]
[null,"上下水道料",{"v":100,"d":"100.0"},{"v":0,"d":"0.0"},{"v":0,"d":"0.0"}]
["家具・家事用品",null,119.6,{"v":3,"d":"3.0"},3.2]
[null,"家庭用耐久財",115.9,9.3,3.7]
[null,"室内装備品",104.4,-2.4,1.2]
[null,"寝具類",{"v":116,"d":"116.0"},-0.3,7.6]
[null,"家事雑貨",130.8,{"v":0,"d":"0.0"},1.5]
[null,"家事用消耗品",118.9,{"v":1,"d":"1.0"},3.9]
[null,"家事サービス",{"v":106,"d":"106.0"},{"v":0,"d":"0.0"},{"v":0,"d":"0.0"}]
["被服及び履物",null,109.4,{"v":0,"d":"0.0"},0.3]
[null,"衣料",{"v":110,"d":"110.0"},0.5,-0.1]
[null,"シャツ・セーター・下着類",106.5,-0.7,0.4]
[null,"履物類",{"v":106,"d":"106.0"},{"v":0,"d":"0.0"},0.9]
[null,"他の被服",120.5,{"v":0,"d":"0.0"},-0.2]
[null,"被服関連サービス",113.9,{"v":0,"d":"0.0"},3.5]
["保健医療",null,104.8,-0.1,0.5]
[null,"医薬品・健康保持用摂取品",{"v":111,"d":"111.0"},0.3,{"v":4,"d":"4.0"}]
[null,"保健医療用品・器具",113.1,-0.8,-2.1]
[null,"保健医療サービス",98.9,0.1,-0.1]
["交通・通信",null,99.1,0.7,2.9]
[null,"交通",106.8,0.4,0.5]
[null,"自動車等関係費",110.6,0.5,1.8]
[null,"通信",77.3,1.3,7.6]