{"text_format":"3","workbook":"xlsx","n_sheets":1,"sheets":["夏季賞与"],"not_rendered":{"external_links":2,"defined_names":37},"read":"whole","date_system":"1900"}

{"sheet":"夏季賞与","index":0,"n_rows":53,"n_cols":7,"rows_kept":53,"merged":[[1,0,1,6],[2,0,2,1],[3,0,10,2],[3,4,10,4],[4,3,5,3],[5,5,6,5],[5,6,6,6],[6,3,7,3],[7,5,8,5],[7,6,8,6],[8,3,9,3]]}
[]
[{"$f":"IF([1]月報基礎データ!$D$1=2,\"第９表　　産業別年末賞与の支給状況\",IF([1]月報基礎データ!$D$1=9,\"第９表　　産業別夏季賞与の支給状況\",\"第９表　　産業別賞与の支給状況\"))","v":"第９表　　産業別夏季賞与の支給状況"}]
["（事業所規模30人以上）"]
["産　　　　　　　業",{"$nulls":3},"前年比"]
[{"$nulls":3},"支給労働者"]
[{"$nulls":5},"支給労働者","平均支給率"]
[{"$nulls":3},"1人平均"]
[{"$nulls":5},"数割合","（支給月数）"]
[{"$nulls":3},"支給額"]
[]
[]
[{"$nulls":3},"円","％","％","か月"]
[]
["TL","調査産業計",null,{"$f":"[1]賞与データ!G230","v":{"v":536883,"d":"536,883"}},{"$f":"[1]賞与データ!H230","v":9.4},{"$f":"[1]賞与データ!M230","v":91.8},{"$f":"[1]賞与データ!K230","v":1.26}]
[]
["D","建設業",null,{"$f":"[1]賞与データ!G232","v":{"v":912550,"d":"912,550"}},{"$f":"[1]賞与データ!H232","v":19.3},{"$f":"[1]賞与データ!M232","v":85.2},{"$f":"[1]賞与データ!K232","v":2.08}]
["E","製造業",null,{"$f":"[1]賞与データ!G233","v":{"v":772719,"d":"772,719"}},{"$f":"[1]賞与データ!H233","v":6.3},{"$f":"[1]賞与データ!M233","v":95.2},{"$f":"[1]賞与データ!K233","v":1.42}]
["F","電気・ｶﾞｽ・熱供給・水道業",null,{"$f":"[1]賞与データ!G234","v":{"v":806574,"d":"806,574"}},{"$f":"[1]賞与データ!H234","v":-5.4},{"$f":"[1]賞与データ!M234","v":86.8},{"$f":"[1]賞与データ!K234","v":1.93}]
["G","情報通信業",null,{"$f":"[1]賞与データ!G235","v":{"v":898894,"d":"898,894"}},{"$f":"[1]賞与データ!H235","v":-4.8},{"$f":"[1]賞与データ!M235","v":97.7},{"$f":"[1]賞与データ!K235","v":1.43}]
["H","運輸業，郵便業",null,{"$f":"[1]賞与データ!G236","v":{"v":361332,"d":"361,332"}},{"$f":"[1]賞与データ!H236","v":15.8},{"$f":"[1]賞与データ!M236","v":98.2},{"$f":"[1]賞与データ!K236","v":0.98}]
["I","卸売業，小売業",null,{"$f":"[1]賞与データ!G237","v":{"v":412747,"d":"412,747"}},{"$f":"[1]賞与データ!H237","v":20.6},{"$f":"[1]賞与データ!M237","v":84.8},{"$f":"[1]賞与データ!K237","v":0.92}]
["J","金融業，保険業",null,{"$f":"[1]賞与データ!G238","v":{"v":625851,"d":"625,851"}},{"$f":"[1]賞与データ!H238","v":11.9},{"$f":"[1]賞与データ!M238","v":{"v":100,"d":"100.0"}},{"$f":"[1]賞与データ!K238","v":1.56}]
["K","不動産業，物品賃貸業",null,{"$f":"[1]賞与データ!G239","v":{"v":276830,"d":"276,830"}},{"$f":"[1]賞与データ!H239","v":-40.8},{"$f":"[1]賞与データ!M239","v":98.6},{"$f":"[1]賞与データ!K239","v":1.21}]
["L","学術研究，専門・技術サービス業",null,{"$f":"[1]賞与データ!G240","v":{"v":1076689,"d":"1,076,689"}},{"$f":"[1]賞与データ!H240","v":-9.9},{"$f":"[1]賞与データ!M240","v":98.8},{"$f":"[1]賞与データ!K240","v":1.75}]
["M","宿泊業，飲食サービス業",null,{"$f":"[1]賞与データ!G241","v":{"v":93155,"d":"93,155"}},{"$f":"[1]賞与データ!H241","v":29.3},{"$f":"[1]賞与データ!M241","v":71.3},{"$f":"[1]賞与データ!K241","v":0.38}]
["N","生活関連サービス業，娯楽業",null,{"$f":"[1]賞与データ!G242","v":{"v":217116,"d":"217,116"}},{"$f":"[1]賞与データ!H242","v":{"v":-7,"d":"-7.0"}},{"$f":"[1]賞与データ!M242","v":95.4},{"$f":"[1]賞与データ!K242","v":0.73}]
["O","教育，学習支援業",null,{"$f":"[1]賞与データ!G243","v":{"v":827085,"d":"827,085"}},{"$f":"[1]賞与データ!H243","v":28.7},{"$f":"[1]賞与データ!M243","v":98.5},{"$f":"[1]賞与データ!K243","v":2.13}]
["P","医療，福祉",null,{"$f":"[1]賞与データ!G244","v":{"v":319662,"d":"319,662"}},{"$f":"[1]賞与データ!H244","v":12.2},{"$f":"[1]賞与データ!M244","v":99.3},{"$f":"[1]賞与データ!K244","v":{"v":1,"d":"1.00"}}]
["Q","複合サービス事業",null,{"$f":"[1]賞与データ!G245","v":{"v":457756,"d":"457,756"}},{"$f":"[1]賞与データ!H245","v":{"v":8,"d":"8.0"}},{"$f":"[1]賞与データ!M245","v":{"v":100,"d":"100.0"}},{"$f":"[1]賞与データ!K245","v":1.52}]
["R","サービス業",null,{"$f":"[1]賞与データ!G246","v":{"v":322159,"d":"322,159"}},{"$f":"[1]賞与データ!H246","v":18.5},{"$f":"[1]賞与データ!M246","v":79.7},{"$f":"[1]賞与データ!K246","v":1.29}]
[]
["E09・10","食料品・たばこ",null,{"$f":"[1]賞与データ!G247","v":{"v":218654,"d":"218,654"}},{"$f":"[1]賞与データ!H247","v":-23.5},{"$f":"[1]賞与データ!M247","v":93.6},{"$f":"[1]賞与データ!K247","v":0.96}]
["E11","繊維工業",null,{"$f":"[2]賞与データ!G248","v":{"v":716266,"d":"716,266"}},{"$f":"[2]賞与データ!H248","v":217.5},{"$f":"[2]賞与データ!M248","v":86.1},{"$f":"[2]賞与データ!K248","v":1.19}]
["E13","家具・装備品",null,"         ×","     ×","   ×","     ×"]
["E14","パルプ・紙",null,{"$f":"[1]賞与データ!G251","v":{"v":476277,"d":"476,277"}},{"$f":"[1]賞与データ!H251","v":71.2},{"$f":"[1]賞与データ!M251","v":{"v":100,"d":"100.0"}},{"$f":"[1]賞与データ!K251","v":1.46}]
["E15","印刷・同関連業",null,{"$f":"[1]賞与データ!G252","v":{"v":490298,"d":"490,298"}},{"$f":"[1]賞与データ!H252","v":{"v":48,"d":"48.0"}},{"$f":"[1]賞与データ!M252","v":{"v":100,"d":"100.0"}},{"$f":"[1]賞与データ!K252","v":{"v":1.6,"d":"1.60"}}]
["E16・17","化学、石油・石炭",null,{"$f":"[1]賞与データ!G253","v":{"v":606748,"d":"606,748"}},{"$f":"[1]賞与データ!H253","v":{"v":-23,"d":"-23.0"}},{"$f":"[1]賞与データ!M253","v":{"v":96,"d":"96.0"}},{"$f":"[1]賞与データ!K253","v":1.49}]
["E18","プラスチック製品",null,{"$f":"[1]賞与データ!G254","v":{"v":639387,"d":"639,387"}},{"$f":"[1]賞与データ!H254","v":25.4},{"$f":"[1]賞与データ!M254","v":{"v":100,"d":"100.0"}},{"$f":"[1]賞与データ!K254","v":1.59}]
["E19","ゴム製品",null,{"$f":"[1]賞与データ!G255","v":{"v":942881,"d":"942,881"}},{"$f":"[1]賞与データ!H255","v":127.6},{"$f":"[1]賞与データ!M255","v":91.2},{"$f":"[1]賞与データ!K255","v":2.08}]
["E21","窯業・土石製品",null,{"$f":"[1]賞与データ!G256","v":{"v":1158819,"d":"1,158,819"}},{"$f":"[1]賞与データ!H256","v":43.7},{"$f":"[1]賞与データ!M256","v":88.4},{"$f":"[1]賞与データ!K256","v":1.65}]
["E22","鉄鋼業",null,{"$f":"[1]賞与データ!G257","v":{"v":849362,"d":"849,362"}},{"$f":"[1]賞与データ!H257","v":5.1},{"$f":"[1]賞与データ!M257","v":{"v":100,"d":"100.0"}},{"$f":"[1]賞与データ!K257","v":1.69}]
["E23","非鉄金属製造業",null,{"$f":"[1]賞与データ!G258","v":{"v":717142,"d":"717,142"}},{"$f":"[1]賞与データ!H258","v":9.1},{"$f":"[1]賞与データ!M258","v":{"v":100,"d":"100.0"}},{"$f":"[1]賞与データ!K258","v":1.84}]
["E24","金属製品製造業",null,{"$f":"[1]賞与データ!G259","v":{"v":841460,"d":"841,460"}},{"$f":"[1]賞与データ!H259","v":{"v":27,"d":"27.0"}},{"$f":"[1]賞与データ!M259","v":76.3},{"$f":"[1]賞与データ!K259","v":1.26}]
["E25","はん用機械器具",null,{"$f":"[1]賞与データ!G260","v":{"v":1225238,"d":"1,225,238"}},{"$f":"[1]賞与データ!H260","v":61.7},{"$f":"[1]賞与データ!M260","v":86.7},{"$f":"[1]賞与データ!K260","v":1.41}]
["E26","生産用機械器具",null,{"$f":"[1]賞与データ!G261","v":{"v":773525,"d":"773,525"}},{"$f":"[1]賞与データ!H261","v":-9.5},{"$f":"[1]賞与データ!M261","v":{"v":100,"d":"100.0"}},{"$f":"[1]賞与データ!K261","v":1.66}]
["E27","業務用機械器具",null,{"$f":"[1]賞与データ!G262","v":{"v":1012040,"d":"1,012,040"}},{"$f":"[1]賞与データ!H262","v":11.9},{"$f":"[1]賞与データ!M262","v":89.4},{"$f":"[1]賞与データ!K262","v":1.94}]
["E28","電子・デバイス",null,{"$f":"[1]賞与データ!G263","v":{"v":1081837,"d":"1,081,837"}},{"$f":"[1]賞与データ!H263","v":7.5},{"$f":"[1]賞与データ!M263","v":{"v":100,"d":"100.0"}},{"$f":"[1]賞与データ!K263","v":1.38}]
["E29","電気機械器具",null,{"$f":"[1]賞与データ!G264","v":{"v":837927,"d":"837,927"}},{"$f":"[1]賞与データ!H264","v":13.7},{"$f":"[1]賞与データ!M264","v":{"v":100,"d":"100.0"}},{"$f":"[1]賞与データ!K264","v":1.37}]
["E30","情報通信機械器具",null,{"$f":"[1]賞与データ!G265","v":{"v":1306098,"d":"1,306,098"}},{"$f":"[1]賞与データ!H265","v":32.1},{"$f":"[1]賞与データ!M265","v":96.1},{"$f":"[1]賞与データ!K265","v":1.81}]
["E31","輸送用機械器具",null,{"$f":"[1]賞与データ!G266","v":{"v":825464,"d":"825,464"}},{"$f":"[1]賞与データ!H266","v":1.1},{"$f":"[1]賞与データ!M266","v":98.4},{"$f":"[1]賞与データ!K266","v":1.27}]
["E一括","Ｅ一括分",null,{"$f":"[1]賞与データ!G268","v":{"v":466672,"d":"466,672"}},{"$f":"[1]賞与データ!H268","v":{"v":109,"d":"109.0"}},{"$f":"[1]賞与データ!M268","v":{"v":100,"d":"100.0"}},{"$f":"[1]賞与データ!K268","v":1.54}]
[]
["P83","医療業",null,{"$f":"[1]賞与データ!G275","v":{"v":382782,"d":"382,782"}},{"$f":"[1]賞与データ!H275","v":19.4},{"$f":"[1]賞与データ!M275","v":98.6},{"$f":"[1]賞与データ!K275","v":0.87}]